BEGIN:VCALENDAR
VERSION:2.0
PRODID:Stripo.email
BEGIN:VEVENT
UID:from-memory-to-horizon-the-visual-language-of-hong-kong-tourism-869
DTSTAMP:20260423T113417
SUMMARY:From Memory to Horizon:  The Visual Language of Hong Kong Tourism
DESCRIPTION:Time: Monday, Wednesday to Sunday: 11:00 - 19:00 (Open on Public Holidays); Closed on Tuesdays (except Public Holidays)
LOCATION:The Design Museum 2/F, DX design hub, 280 Tung Chau Street, Sham Shui Po, Kowloon
CLASS:PUBLIC
DTSTART:20260423T000000
DTEND:20260706T000000
END:VEVENT
END:VCALENDAR