BEGIN:VCALENDAR
VERSION:2.0
PRODID:Stripo.email
BEGIN:VEVENT
UID:from-memory-to-horizon-the-visual-language-of-hong-kong-tourism-869
DTSTAMP:20260423T125829
SUMMARY:旅港維度——香港旅遊的視覺語言
DESCRIPTION:時間：星期一、三至日：11:00 - 19:00 （公眾假期照常開放）；逢星期二（公眾假期除外）休館
LOCATION:九龍深水埗通州街280號DX設計館2樓設計博物館
CLASS:PUBLIC
DTSTART:20260423T000000
DTEND:20260706T000000
END:VEVENT
END:VCALENDAR